BEGIN:VCALENDAR
VERSION:2.0
PRODID:Vacinação Antirrábica
X-WR-CALNAME:Vacinação Antirrábica
X-WR-TIMEZONE:Europe/Lisbon
X-PUBLISHED-TTL:P1W
BEGIN:VTIMEZONE
TZID:Europe/Lisbon
X-LIC-LOCATION:Europe/Lisbon
END:VTIMEZONE
BEGIN:VEVENT
UID:69e4f8cb49a6f
DTSTART;VALUE=DATE:20230523
SEQUENCE:0
TRANSP:OPAQUE
DTEND;VALUE=DATE:20230524
SUMMARY:Vacinação Antirrábica
CLASS:PUBLIC
DESCRIPTION:A Junta de Freguesia informa que o médico veterinário da câm
 ara municipal\, Dr. Marcos Silva\, irá proceder à campanha de vacinaçã
 o antirrábica e de identificação eletrónica (microchip) de cães na fr
 eguesia de Monsul  no dia 23 de Maio pelas 10h30\, junto á Sede da Junta 
 de Freguesia.
X-MICROSOFT-CDO-ALLDAYEVENT:TRUE
DTSTAMP:20260419T154619Z
END:VEVENT
END:VCALENDAR