BEGIN:VCALENDAR
VERSION:2.0
PRODID:VII Feira de Natal
X-WR-CALNAME:VII Feira de Natal
X-WR-TIMEZONE:Europe/Lisbon
X-PUBLISHED-TTL:P1W
BEGIN:VTIMEZONE
TZID:Europe/Lisbon
X-LIC-LOCATION:Europe/Lisbon
END:VTIMEZONE
BEGIN:VEVENT
UID:69e4f0932bd45
DTSTART;VALUE=DATE:20221216
SEQUENCE:0
TRANSP:OPAQUE
DTEND;VALUE=DATE:20221217
SUMMARY:VII Feira de Natal
CLASS:PUBLIC
DESCRIPTION:Após dois anos de interregno forçado\, temos o prazer de anun
 ciar que o evento natalício mais esperado está de volta.O espírito de N
 atal promete invadir o Pavilhão Gimnodesportivo de Monsul entre os dias 1
 6 e 18 de Dezembro para a realização da VII Edição da Feira de Natal.O
  programa completo será divulgado em breve.
X-MICROSOFT-CDO-ALLDAYEVENT:TRUE
DTSTAMP:20260419T151115Z
END:VEVENT
END:VCALENDAR