BEGIN:VCALENDAR
VERSION:2.0
PRODID:Recolha de \"Monstros\"
X-WR-CALNAME:Recolha de \"Monstros\"
X-WR-TIMEZONE:Europe/Lisbon
X-PUBLISHED-TTL:P1W
BEGIN:VTIMEZONE
TZID:Europe/Lisbon
X-LIC-LOCATION:Europe/Lisbon
END:VTIMEZONE
BEGIN:VEVENT
UID:69e4f863b0772
DTSTART;VALUE=DATE:20230111
SEQUENCE:0
TRANSP:OPAQUE
DTEND;VALUE=DATE:20230112
SUMMARY:Recolha de \"Monstros\"
CLASS:PUBLIC
DESCRIPTION:INFORMAÇÃO
X-MICROSOFT-CDO-ALLDAYEVENT:TRUE
DTSTAMP:20260419T154435Z
END:VEVENT
END:VCALENDAR