BEGIN:VCALENDAR
VERSION:2.0
PRODID:\"Recolha de Monstros\"
X-WR-CALNAME:\"Recolha de Monstros\"
X-WR-TIMEZONE:Europe/Lisbon
X-PUBLISHED-TTL:P1W
BEGIN:VTIMEZONE
TZID:Europe/Lisbon
X-LIC-LOCATION:Europe/Lisbon
END:VTIMEZONE
BEGIN:VEVENT
UID:69e5098330d6e
DTSTART;VALUE=DATE:20221109
SEQUENCE:0
TRANSP:OPAQUE
DTEND;VALUE=DATE:20221110
SUMMARY:\"Recolha de Monstros\"
CLASS:PUBLIC
DESCRIPTION:Dia 09 de Novembro\, é dia de recolha de \"Monstros\" (lixo de
  grandes dimensões)\, na Freguesia de Monsul. Os objetos devem ser coloca
 dos junto aos contentores do lixo até às 8h00 do dia da recolha.Vamos to
 dos cuidar do ambiente e manter a freguesia limpa.
X-MICROSOFT-CDO-ALLDAYEVENT:TRUE
DTSTAMP:20260419T165739Z
END:VEVENT
END:VCALENDAR